Workbook

Sheet 入力画面
A1: 施設名 | C1: （ ）
A2: 部署名 | C2: （ ）
A3: 評価票配布日 | C3: （ 年 月 日 ） | G3: ＊「NA」は数字の０(ゼロ)を入力してください。
A4: 回収締切日 | C4: （ 年 月 日 ）
A5: 調査期間 | C5: （ 日間）
A6: 調査実施責任者名 | C6: （ ）
A7: メールアドレス | C7: （ ）
A8: 集計フォーマット入力日 | C8: （ 年 月 日 ）
A9: 連絡先電話番号 | C9: （ ）
B11: 回答者の属性 | G11: Part1：ケアプロセスの実際に関する評価 | AZ11: Part2：多職種が協働する場と姿勢の評価 | BG11: Part3：緩和ケア病棟の理念に沿った病床運営と地域のニーズへの対応の評価
G12: 1.ケアに関するニーズの把握と包括的なアセスメント | O12: 2.ケア方針に基づいたケア計画の決定と共有 | U12: 3.ケアの実施（患者の苦痛症状やニーズへの対応） | AF12: 4.退院準備と退院時・退院後の支援 | AQ12: 5.臨死期への対応 | AV12: 6.遺族に対するケア | AZ12: A.多職種が協働する場 | BC12: B.多職種協働の姿勢 | BG12: A.緩和ケア病棟の入退棟基準 | BK12: B.地域と患者個別のニーズに基づいた病床運営
A13: ID | B13: 年齢 | C13: 性別 | D13: 職種 | E13: 緩和経験年数 | F13: 職業経験年数 | G13: 1.1-① | H13: 1.1-② | I13: 1.1-③ | J13: 1.1-④ | K13: 1.1-⑤ | L13: 1.2-① | M13: 1.2-② | N13: 1.2-③ | O13: 2.1-① | P13: 2.1-② | Q13: 2.1-③ | R13: 2.1-④ | S13: 2.1-⑤ | T13: 2.1-⑥ | U13: 3.1-① | V13: 3.1-② | W13: 3.1-③ | X13: 3.1-④ | Y13: 3.2-① | Z13: 3.2-② | AA13: 3.2-③ | AB13: 3.2-④ | AC13: 3.2-⑤ | AD13: 3.2-⑥ | AE13: 3.2-⑦ | AF13: 4.1-① | AG13: 4.1-② | AH13: 4.1-③ | AI13: 4.1-④ | AJ13: 4.1-⑤ | AK13: 4.1-⑥ | AL13: 4.2-① | AM13: 4.2-② | AN13: 4.2-③ | AO13: 4.2-④ | AP13: 4.2-⑤ | AQ13: 5.1-① | AR13: 5.1-② | AS13: 5.1-③ | AT13: 5.1-④ | AU13: 5.1-⑤ | AV13: 6.1-① | AW13: 6.1-② | AX13: 6.1-③ | AY13: 6.1-④ | AZ13: A-① | BA13: A-② | BB13: A-③ | BC13: B-① | BD13: B-② | BE13: B-③ | BF13: B-④ | BG13: A-① | BH13: A-② | BI13: A-③ | BJ13: A-④ | BK13: B-① | BL13: B-②
A14: 1
A15: 2
A16: 3
A17: 4
A18: 5
A19: 6
A20: 7
A21: 8
A22: 9
A23: 10
A24: 11
A25: 12
... A113: 100
A114: 100名以上の場合、グラフには反映されません。

Sheet 平均値・中央値・最頻値
A2: =計算式!G4 -> Part1：ケアプロセスの実際に関する評価
A3: =計算式!G5 -> 1.ケアニーズの把握と包括的なアセスメント
B4: =計算式!G6 -> 1.1-① | C4: =計算式!H6 -> 1.1-② | D4: =計算式!I6 -> 1.1-③ | E4: =計算式!J6 -> 1.1-④ | F4: =計算式!K6 -> 1.1-⑤
A5: 平均値 | B5: =計算式!G7 -> #DIV/0! | C5: =計算式!H7 -> #DIV/0! | D5: =計算式!I7 -> #DIV/0! | E5: =計算式!J7 -> #DIV/0! | F5: =計算式!K7 -> #DIV/0!
A6: 中央値 | B6: =計算式!G8 -> #NUM! | C6: =計算式!H8 -> #NUM! | D6: =計算式!I8 -> #NUM! | E6: =計算式!J8 -> #NUM! | F6: =計算式!K8 -> #NUM!
A7: 最頻値 | B7: =計算式!G9 -> #N/A | C7: =計算式!H9 -> #N/A | D7: =計算式!I9 -> #N/A | E7: =計算式!J9 -> #N/A | F7: =計算式!K9 -> #N/A
B10: =計算式!L6 -> 1.2-① | C10: =計算式!M6 -> 1.2-② | D10: =計算式!N6 -> 1.2-③
A11: 平均値 | B11: =計算式!L7 -> #DIV/0! | C11: =計算式!M7 -> #DIV/0! | D11: =計算式!N7 -> #DIV/0!
A12: 中央値 | B12: =計算式!L8 -> #NUM! | C12: =計算式!M8 -> #NUM! | D12: =計算式!N8 -> #NUM!
A13: 最頻値 | B13: =計算式!L9 -> #N/A | C13: =計算式!M9 -> #N/A | D13: =計算式!N9 -> #N/A
A16: =計算式!O5 -> 2.ケア方針に基づいたケア計画の決定と共有
B17: =計算式!O6 -> 2.1-① | C17: =計算式!P6 -> 2.1-② | D17: =計算式!Q6 -> 2.1-③ | E17: =計算式!R6 -> 2.1-④ | F17: =計算式!S6 -> 2.1-⑤ | G17: =計算式!T6 -> 2.1-⑥
A18: 平均値 | B18: =計算式!O7 -> #DIV/0! | C18: =計算式!P7 -> #DIV/0! | D18: =計算式!Q7 -> #DIV/0! | E18: =計算式!R7 -> #DIV/0! | F18: =計算式!S7 -> #DIV/0! | G18: =計算式!T7 -> #DIV/0!
A19: 中央値 | B19: =計算式!O8 -> #NUM! | C19: =計算式!P8 -> #NUM! | D19: =計算式!Q8 -> #NUM! | E19: =計算式!R8 -> #NUM! | F19: =計算式!S8 -> #NUM! | G19: =計算式!T8 -> #NUM!
A20: 最頻値 | B20: =計算式!O9 -> #N/A | C20: =計算式!P9 -> #N/A | D20: =計算式!Q9 -> #N/A | E20: =計算式!R9 -> #N/A | F20: =計算式!S9 -> #N/A | G20: =計算式!T9 -> #N/A
A23: =計算式!U5 -> 3.ケアの実施（患者の苦痛症状やニーズへの対応）
B24: =計算式!U6 -> 3.1ｰ① | C24: =計算式!V6 -> 3.1-② | D24: =計算式!W6 -> 3.1-③ | E24: =計算式!X6 -> 3.1-④
A25: 平均値 | B25: =計算式!U7 -> #DIV/0! | C25: =計算式!V7 -> #DIV/0! | D25: =計算式!W7 -> #DIV/0! | E25: =計算式!X7 -> #DIV/0!
A26: 中央値 | B26: =計算式!U8 -> #NUM! | C26: =計算式!V8 -> #NUM! | D26: =計算式!W8 -> #NUM! | E26: =計算式!X8 -> #NUM!
A27: 最頻値 | B27: =計算式!U9 -> #N/A | C27: =計算式!V9 -> #N/A | D27: =計算式!W9 -> #N/A | E27: =計算式!X9 -> #N/A
B30: =計算式!Y6 -> 3.2-① | C30: =計算式!Z6 -> 3.2-② | D30: =計算式!AA6 -> 3.2-③ | E30: =計算式!AB6 -> 3.2-④ | F30: =計算式!AC6 -> 3.2-⑤ | G30: =計算式!AD6 -> 3.2-⑥ | H30: =計算式!AE6 -> 3.2-⑦
A31: 平均値 | B31: =計算式!Y7 -> #DIV/0! | C31: =計算式!Z7 -> #DIV/0! | D31: =計算式!AA7 -> #DIV/0! | E31: =計算式!AB7 -> #DIV/0! | F31: =計算式!AC7 -> #DIV/0! | G31: =計算式!AD7 -> #DIV/0! | H31: =計算式!AE7 -> #DIV/0!
A32: 中央値 | B32: =計算式!Y8 -> #NUM! | C32: =計算式!Z8 -> #NUM! | D32: =計算式!AA8 -> #NUM! | E32: =計算式!AB8 -> #NUM! | F32: =計算式!AC8 -> #NUM! | G32: =計算式!AD8 -> #NUM! | H32: =計算式!AE8 -> #NUM!
A33: 最頻値 | B33: =計算式!Y9 -> #N/A | C33: =計算式!Z9 -> #N/A | D33: =計算式!AA9 -> #N/A | E33: =計算式!AB9 -> #N/A | F33: =計算式!AC9 -> #N/A | G33: =計算式!AD9 -> #N/A | H33: =計算式!AE9 -> #N/A
A36: =計算式!AF5 -> 4.退院準備と退院時・退院後の支援
B37: =計算式!AF6 -> 4.1-① | C37: =計算式!AG6 -> 4.1-② | D37: =計算式!AH6 -> 4.1-③ | E37: =計算式!AI6 -> 4.1-④ | F37: 4.1-⑤ | G37: 4.1-⑥
A38: 平均値 | B38: =計算式!AF7 -> #DIV/0! | C38: =計算式!AG7 -> #DIV/0! | D38: =計算式!AH7 -> #DIV/0! | E38: =計算式!AI7 -> #DIV/0! | F38: =計算式!AJ7 -> #DIV/0! | G38: =計算式!AK7 -> #DIV/0!
A39: 中央値 | B39: =計算式!AF8 -> #NUM! | C39: =計算式!AG8 -> #NUM! | D39: =計算式!AH8 -> #NUM! | E39: =計算式!AI8 -> #NUM! | F39: =計算式!AJ8 -> #NUM! | G39: =計算式!AK8 -> #NUM!
A40: 最頻値 | B40: =計算式!AF9 -> #N/A | C40: =計算式!AG9 -> #N/A | D40: =計算式!AH9 -> #N/A | E40: =計算式!AI9 -> #N/A | F40: =計算式!AJ9 -> #N/A | G40: =計算式!AK9 -> #N/A
B43: =計算式!AL6 -> 4.2-① | C43: =計算式!AM6 -> 4.2-② | D43: =計算式!AN6 -> 4.2-③ | E43: =計算式!AO6 -> 4.2-④ | F43: =計算式!AP6 -> 4.2-⑤
A44: 平均値 | B44: =計算式!AL7 -> #DIV/0! | C44: =計算式!AM7 -> #DIV/0! | D44: =計算式!AN7 -> #DIV/0! | E44: =計算式!AO7 -> #DIV/0! | F44: =計算式!AP7 -> #DIV/0!
A45: 中央値 | B45: =計算式!AL8 -> #NUM! | C45: =計算式!AM8 -> #NUM! | D45: =計算式!AN8 -> #NUM! | E45: =計算式!AO8 -> #NUM! | F45: =計算式!AP8 -> #NUM!
A46: 最頻値 | B46: =計算式!AL9 -> #N/A | C46: =計算式!AM9 -> #N/A | D46: =計算式!AN9 -> #N/A | E46: =計算式!AO9 -> #N/A | F46: =計算式!AP9 -> #N/A
A49: =計算式!AQ5 -> 5.臨死期への対応
B50: =計算式!AQ6 -> 5.1-① | C50: =計算式!AR6 -> 5.1-② | D50: =計算式!AS6 -> 5.1-③ | E50: =計算式!AT6 -> 5.1-④ | F50: =計算式!AU6 -> 5.1-⑤
A51: 平均値 | B51: =計算式!AQ7 -> #DIV/0! | C51: =計算式!AR7 -> #DIV/0! | D51: =計算式!AS7 -> #DIV/0! | E51: =計算式!AT7 -> #DIV/0! | F51: =計算式!AU7 -> #DIV/0!
A52: 中央値 | B52: =計算式!AQ8 -> #NUM! | C52: =計算式!AR8 -> #NUM! | D52: =計算式!AS8 -> #NUM! | E52: =計算式!AT8 -> #NUM! | F52: =計算式!AU8 -> #NUM!
A53: 最頻値 | B53: =計算式!AQ9 -> #N/A | C53: =計算式!AR9 -> #N/A | D53: =計算式!AS9 -> #N/A | E53: =計算式!AT9 -> #N/A | F53: =計算式!AU9 -> #N/A
A56: =計算式!AV5 -> 6.遺族に対するケア
B57: =計算式!AV6 -> 6.1-① | C57: =計算式!AW6 -> 6.1-② | D57: =計算式!AX6 -> 6.1-③ | E57: =計算式!AY6 -> 6.1-④
A58: 平均値 | B58: =計算式!AV7 -> #DIV/0! | C58: =計算式!AW7 -> #DIV/0! | D58: =計算式!AX7 -> #DIV/0! | E58: =計算式!AY7 -> #DIV/0!
A59: 中央値 | B59: =計算式!AV8 -> #NUM! | C59: =計算式!AW8 -> #NUM! | D59: =計算式!AX8 -> #NUM! | E59: =計算式!AY8 -> #NUM!
A60: 最頻値 | B60: =計算式!AV9 -> #N/A | C60: =計算式!AW9 -> #N/A | D60: =計算式!AX9 -> #N/A | E60: =計算式!AY9 -> #N/A
A63: Part2：多職種が協働する場と姿勢の評価
A64: A.多職種が協働する場
B65: =計算式!AZ6 -> A-① | C65: =計算式!BA6 -> A-② | D65: =計算式!BB6 -> A-③
A66: 平均値 | B66: =計算式!AZ7 -> #DIV/0! | C66: =計算式!BA7 -> #DIV/0! | D66: =計算式!BB7 -> #DIV/0!
A67: 中央値 | B67: =計算式!AZ8 -> #NUM! | C67: =計算式!BA8 -> #NUM! | D67: =計算式!BB8 -> #NUM!
A68: 最頻値 | B68: =計算式!AZ9 -> #N/A | C68: =計算式!BA9 -> #N/A | D68: =計算式!BB9 -> #N/A
A71: B.多職種協働の姿勢
B72: =計算式!BK6 -> B-① | C72: =計算式!BL6 -> B-② | D72: B-③ | E72: B-④
A73: 平均値 | B73: =計算式!BC7 -> #DIV/0! | C73: =計算式!BD7 -> #DIV/0! | D73: =計算式!BE7 -> #DIV/0! | E73: =計算式!BF7 -> #DIV/0!
A74: 中央値 | B74: =計算式!BC8 -> #NUM! | C74: =計算式!BD8 -> #NUM! | D74: =計算式!BE8 -> #NUM! | E74: =計算式!BF8 -> #NUM!
A75: 最頻値 | B75: =計算式!BC9 -> #N/A | C75: =計算式!BD9 -> #N/A | D75: =計算式!BE9 -> #N/A | E75: =計算式!BF9 -> #N/A
A78: Part3：緩和ケア病棟の理念に沿った病床運営と地域のニーズへの対応の評価
A79: A.緩和ケア病棟の入退棟基準
B80: A-① | C80: A-② | D80: A-③ | E80: A-④
A81: 平均値 | B81: =計算式!BG7 -> #DIV/0! | C81: =計算式!BH7 -> #DIV/0! | D81: =計算式!BI7 -> #DIV/0! | E81: =計算式!BJ7 -> #DIV/0!
A82: 中央値 | B82: =計算式!BG8 -> #NUM! | C82: =計算式!BH8 -> #NUM! | D82: =計算式!BI8 -> #NUM! | E82: =計算式!BJ8 -> #NUM!
A83: 最頻値 | B83: =計算式!BG9 -> #N/A | C83: =計算式!BH9 -> #N/A | D83: =計算式!BI9 -> #N/A | E83: =計算式!BJ9 -> #N/A
A86: B.地域と患者個別のニーズに基づいた病床運営
B87: B-① | C87: B-②
A88: 平均値 | B88: =計算式!BK7 -> #DIV/0! | C88: =計算式!BL7 -> #DIV/0!
A89: 中央値 | B89: =計算式!BK8 -> #NUM! | C89: =計算式!BL8 -> #NUM!
A90: 最頻値 | B90: =計算式!BK9 -> #N/A | C90: =計算式!BL9 -> #N/A

Sheet グラフ
A2: PART1:ケアプロセスの実際に関する評価
A475: PART2:多職種が協働する場と姿勢の評価
A476: Ａ．多職種が協働する場
A513: Ｂ．多職種協働の姿勢
A551: PART3:緩和ケア病棟の理念に沿った病床運営と地域のニーズへの対応の評価
A552: Ａ．緩和ケア病棟の入退棟基準
A593: Ｂ．地域と患者個別のニーズに基づいた病床運営

Sheet 計算式
F1: 自動計算シート ※このシートは修正しないでください。
F3: 注意！：最頻値は、二つの選択肢が同数の場合は、先に入力した方の値になります
G4: Part1：ケアプロセスの実際に関する評価 | AZ4: Part2：多職種が協働する場と姿勢の評価 | BG4: Part3：緩和ケア病棟の理念に沿った病床運営と地域のニーズへの対応の評価
G5: 1.ケアニーズの把握と包括的なアセスメント | O5: 2.ケア方針に基づいたケア計画の決定と共有 | U5: 3.ケアの実施（患者の苦痛症状やニーズへの対応） | AF5: 4.退院準備と退院時・退院後の支援 | AQ5: 5.臨死期への対応 | AV5: 6.遺族に対するケア | AZ5: A.多職種が協働する場 | BC5: B.多職種協働の姿勢 | BG5: A.緩和ケア病棟の入退棟基準 | BK5: B.地域と患者個別のニーズに基づいた病床運営
G6: 1.1-① | H6: 1.1-② | I6: 1.1-③ | J6: 1.1-④ | K6: 1.1-⑤ | L6: 1.2-① | M6: 1.2-② | N6: 1.2-③ | O6: 2.1-① | P6: 2.1-② | Q6: 2.1-③ | R6: 2.1-④ | S6: 2.1-⑤ | T6: 2.1-⑥ | U6: 3.1ｰ① | V6: 3.1-② | W6: 3.1-③ | X6: 3.1-④ | Y6: 3.2-① | Z6: 3.2-② | AA6: 3.2-③ | AB6: 3.2-④ | AC6: 3.2-⑤ | AD6: 3.2-⑥ | AE6: 3.2-⑦ | AF6: 4.1-① | AG6: 4.1-② | AH6: 4.1-③ | AI6: 4.1-④ | AJ6: 4.1-⑤ | AK6: 4.1-⑥ | AL6: 4.2-① | AM6: 4.2-② | AN6: 4.2-③ | AO6: 4.2-④ | AP6: 4.2-⑤ | AQ6: 5.1-① | AR6: 5.1-② | AS6: 5.1-③ | AT6: 5.1-④ | AU6: 5.1-⑤ | AV6: 6.1-① | AW6: 6.1-② | AX6: 6.1-③ | AY6: 6.1-④ | AZ6: A-① | BA6: A-② | BB6: A-③ | BC6: B-① | BD6: B-② | BE6: B-③ | BF6: B-④ | BG6: A-① | BH6: A-② | BI6: A-② | BJ6: A-② | BK6: B-① | BL6: B-②
F7: 平均値 | G7: =SUM(G11*5+G12*4+G13*3+G14*2+G15*1)/SUM(G11:G15) -> #DIV/0! | H7: =SUM(H18*5+H19*4+H20*3+H21*2+H22*1)/SUM(H18:H22) -> #DIV/0! | I7: =SUM(I25*5+I26*4+I27*3+I28*2+I29*1)/SUM(I25:I29) -> #DIV/0! | J7: =SUM(J32*5+J33*4+J34*3+J35*2+J36*1)/SUM(J32:J36) -> #DIV/0! | K7: =SUM(K39*5+K40*4+K41*3+K42*2+K43*1)/SUM(K39:K43) -> #DIV/0! | L7: =SUM(L11*5+L12*4+L13*3+L14*2+L15*1)/SUM(L11:L15) -> #DIV/0! | M7: =SUM(M18*5+M19*4+M20*3+M21*2+M22*1)/SUM(M18:M22) -> #DIV/0! | N7: =SUM(N25*5+N26*4+N27*3+N28*2+N29*1)/SUM(N25:N29) -> #DIV/0! | O7: =SUM(O11*5+O12*4+O13*3+O14*2+O15*1)/SUM(O11:O15) -> #DIV/0! | P7: =SUM(P18*5+P19*4+P20*3+P21*2+P22*1)/SUM(P18:P22) -> #DIV/0! | Q7: =SUM(Q25*5+Q26*4+Q27*3+Q28*2+Q29*1)/SUM(Q25:Q29) -> #DIV/0! | R7: =SUM(R32*5+R33*4+R34*3+R35*2+R36*1)/SUM(R32:R36) -> #DIV/0! | S7: =SUM(S39*5+S40*4+S41*3+S42*2+S43*1)/SUM(S39:S43) -> #DIV/0! | T7: =SUM(T46*5+T47*4+T48*3+T49*2+T50*1)/SUM(T46:T50) -> #DIV/0! | U7: =SUM(U11*5+U12*4+U13*3+U14*2+U15*1)/SUM(U11:U15) -> #DIV/0! | V7: =SUM(V18*5+V19*4+V20*3+V21*2+V22*1)/SUM(V18:V22) -> #DIV/0! | W7: =SUM(W25*5+W26*4+W27*3+W28*2+W29*1)/SUM(W25:W29) -> #DIV/0! | X7: =SUM(X32*5+X33*4+X34*3+X35*2+X36*1)/SUM(X32:X36) -> #DIV/0! | Y7: =SUM(Y11*5+Y12*4+Y13*3+Y14*2+Y15*1)/SUM(Y11:Y15) -> #DIV/0! | Z7: =SUM(Z18*5+Z19*4+Z20*3+Z21*2+Z22*1)/SUM(Z18:Z22) -> #DIV/0! | AA7: =SUM(AA25*5+AA26*4+AA27*3+AA28*2+AA29*1)/SUM(AA25:AA29) -> #DIV/0! | AB7: =SUM(AB32*5+AB33*4+AB34*3+AB35*2+AB36*1)/SUM(AB32:AB36) -> #DIV/0! | AC7: =SUM(AC39*5+AC40*4+AC41*3+AC42*2+AC43*1)/SUM(AC39:AC43) -> #DIV/0! | AD7: =SUM(AD46*5+AD47*4+AD48*3+AD49*2+AD50*1)/SUM(AD46:AD50) -> #DIV/0! | AE7: =SUM(AE53*5+AE54*4+AE55*3+AE56*2+AE57*1)/SUM(AE53:AE57) -> #DIV/0! | AF7: =SUM(AF11*5+AF12*4+AF13*3+AF14*2+AF15*1)/SUM(AF11:AF15) -> #DIV/0! | AG7: =SUM(AG18*5+AG19*4+AG20*3+AG21*2+AG22*1)/SUM(AG18:AG22) -> #DIV/0! | AH7: =SUM(AH25*5+AH26*4+AH27*3+AH28*2+AH29*1)/SUM(AH25:AH29) -> #DIV/0! | AI7: =SUM(AI32*5+AI33*4+AI34*3+AI35*2+AI36*1)/SUM(AI32:AI36) -> #DIV/0! | AJ7: =SUM(AJ39*5+AJ40*4+AJ41*3+AJ42*2+AJ43*1)/SUM(AJ39:AJ43) -> #DIV/0! | AK7: =SUM(AK47*5+AK48*4+AK49*3+AK50*2+AK51*1)/SUM(AK47:AK51) -> #DIV/0! | AL7: =SUM(AL11*5+AL12*4+AL13*3+AL14*2+AL15*1)/SUM(AL11:AL15) -> #DIV/0! | AM7: =SUM(AM18*5+AM19*4+AM20*3+AM21*2+AM22*1)/SUM(AM18:AM22) -> #DIV/0! | AN7: =SUM(AN25*5+AN26*4+AN27*3+AN28*2+AN29*1)/SUM(AN25:AN29) -> #DIV/0! | AO7: =SUM(AO32*5+AO33*4+AO34*3+AO35*2+AO36*1)/SUM(AO32:AO36) -> #DIV/0! | AP7: =SUM(AP39*5+AP40*4+AP41*3+AP42*2+AP43*1)/SUM(AP39:AP43) -> #DIV/0! | AQ7: =SUM(AQ11*5+AQ12*4+AQ13*3+AQ14*2+AQ15*1)/SUM(AQ11:AQ15) -> #DIV/0! | AR7: =SUM(AR18*5+AR19*4+AR20*3+AR21*2+AR22*1)/SUM(AR18:AR22) -> #DIV/0! | AS7: =SUM(AS25*5+AS26*4+AS27*3+AS28*2+AS29*1)/SUM(AS25:AS29) -> #DIV/0! | AT7: =SUM(AT32*5+AT33*4+AT34*3+AT35*2+AT36*1)/SUM(AT32:AT36) -> #DIV/0! | AU7: =SUM(AU39*5+AU40*4+AU41*3+AU42*2+AU43*1)/SUM(AU39:AU43) -> #DIV/0! | AV7: =SUM(AV11*5+AV12*4+AV13*3+AV14*2+AV15*1)/SUM(AV11:AV15) -> #DIV/0! | AW7: =SUM(AW18*5+AW19*4+AW20*3+AW21*2+AW22*1)/SUM(AW18:AW22) -> #DIV/0! | AX7: =SUM(AX25*5+AX26*4+AX27*3+AX28*2+AX29*1)/SUM(AX25:AX29) -> #DIV/0! | AY7: =SUM(AY32*5+AY33*4+AY34*3+AY35*2+AY36*1)/SUM(AY32:AY36) -> #DIV/0! | AZ7: =SUM(AZ11*5+AZ12*4+AZ13*3+AZ14*2+AZ15*1)/SUM(AZ11:AZ15) -> #DIV/0! | BA7: =SUM(BA18*5+BA19*4+BA20*3+BA21*2+BA22*1)/SUM(BA18:BA22) -> #DIV/0! | BB7: =SUM(BB25*5+BB26*4+BB27*3+BB28*2+BB29*1)/SUM(BB25:BB29) -> #DIV/0! | BC7: =SUM(BC11*5+BC12*4+BC13*3+BC14*2+BC15*1)/SUM(BC11:BC15) -> #DIV/0! | BD7: =SUM(BD18*5+BD19*4+BD20*3+BD21*2+BD22*1)/SUM(BD18:BD22) -> #DIV/0! | BE7: =SUM(BE25*5+BE26*4+BE27*3+BE28*2+BE29*1)/SUM(BE25:BE29) -> #DIV/0! | BF7: =SUM(BF32*5+BF33*4+BF34*3+BF35*2+BF36*1)/SUM(BF32:BF36) -> #DIV/0! | BG7: =SUM(BG11*5+BG12*4+BG13*3+BG14*2+BG15*1)/SUM(BG11:BG15) -> #DIV/0! | BH7: =SUM(BH18*5+BH19*4+BH20*3+BH21*2+BH22*1)/SUM(BH18:BH22) -> #DIV/0! | BI7: =SUM(BI25*5+BI26*4+BI27*3+BI28*2+BI29*1)/SUM(BI25:BI29) -> #DIV/0! | BJ7: =SUM(BJ32*5+BJ33*4+BJ34*3+BJ35*2+BJ36*1)/SUM(BJ32:BJ36) -> #DIV/0! | BK7: =SUM(BK11*5+BK12*4+BK13*3+BK14*2+BK15*1)/SUM(BK11:BK15) -> #DIV/0! | BL7: =SUM(BL18*5+BL19*4+BL20*3+BL21*2+BL22*1)/SUM(BL18:BL22) -> #DIV/0!
F8: 中央値 | G8: {=MEDIAN(IF(入力画面!G14:G113>0,入力画面!G14:G113))} -> #NUM! | H8: {=MEDIAN(IF(入力画面!H14:H113>0,入力画面!H14:H113))} -> #NUM! | I8: {=MEDIAN(IF(入力画面!I14:I113>0,入力画面!I14:I113))} -> #NUM! | J8: {=MEDIAN(IF(入力画面!J14:J113>0,入力画面!J14:J113))} -> #NUM! | K8: {=MEDIAN(IF(入力画面!K14:K113>0,入力画面!K14:K113))} -> #NUM! | L8: {=MEDIAN(IF(入力画面!L14:L113>0,入力画面!L14:L113))} -> #NUM! | M8: {=MEDIAN(IF(入力画面!M14:M113>0,入力画面!M14:M113))} -> #NUM! | N8: {=MEDIAN(IF(入力画面!N14:N113>0,入力画面!N14:N113))} -> #NUM! | ... BL8: {=MEDIAN(IF(入力画面!BL14:BL113>0,入力画面!BL14:BL113))} -> #NUM!
F9: 最頻値 | G9: =MODE(入力画面!G14:G113) -> #N/A | H9: =MODE(入力画面!H14:H113) -> #N/A | I9: =MODE(入力画面!I14:I113) -> #N/A | J9: =MODE(入力画面!J14:J113) -> #N/A | K9: =MODE(入力画面!K14:K113) -> #N/A | L9: =MODE(入力画面!L14:L113) -> #N/A | M9: =MODE(入力画面!M14:M113) -> #N/A | N9: =MODE(入力画面!N14:N113) -> #N/A | ... BL9: =MODE(入力画面!BL14:BL113) -> #N/A
G10: 1.1-① | L10: 1.2-① | O10: 2.1-① | U10: 3.1ｰ① | Y10: 3.2-① | AF10: 4.1-① | AL10: 4.2-① | AQ10: 5.1-① | AV10: 6.1-① | AZ10: A-① | BC10: B-① | BG10: A-① | BK10: B-①
F11: 5 | G11: =COUNTIF(入力画面!G14:G113,5) -> 0 | K11: 5 | L11: =COUNTIF(入力画面!L14:L113,5) -> 0 | N11: 5 | O11: =COUNTIF(入力画面!O14:O113,5) -> 0 | T11: 5 | U11: =COUNTIF(入力画面!U14:U113,5) -> 0 | X11: 5 | Y11: =COUNTIF(入力画面!Y14:Y113,5) -> 0 | AE11: 5 | AF11: =COUNTIF(入力画面!AF14:AF113,5) -> 0 | AK11: 5 | AL11: =COUNTIF(入力画面!AL14:AL113,5) -> 0 | AP11: 5 | AQ11: =COUNTIF(入力画面!AQ14:AQ113,5) -> 0 | AU11: 5 | AV11: =COUNTIF(入力画面!AV14:AV113,5) -> 0 | AY11: 5 | AZ11: =COUNTIF(入力画面!AZ14:AZ113,5) -> 0 | BB11: 5 | BC11: =COUNTIF(入力画面!BC14:BC113,5) -> 0 | BF11: 5 | BG11: =COUNTIF(入力画面!BG14:BG113,5) -> 0 | BJ11: 5 | BK11: =COUNTIF(入力画面!BK14:BK113,5) -> 0
F12: 4 | G12: =COUNTIF(入力画面!G14:G113,4) -> 0 | K12: 4 | L12: =COUNTIF(入力画面!L14:L113,4) -> 0 | N12: 4 | O12: =COUNTIF(入力画面!O14:O113,4) -> 0 | T12: 4 | U12: =COUNTIF(入力画面!U14:U113,4) -> 0 | X12: 4 | Y12: =COUNTIF(入力画面!Y14:Y113,4) -> 0 | AE12: 4 | AF12: =COUNTIF(入力画面!AF14:AF113,4) -> 0 | AK12: 4 | AL12: =COUNTIF(入力画面!AL14:AL113,4) -> 0 | AP12: 4 | AQ12: =COUNTIF(入力画面!AQ14:AQ113,4) -> 0 | AU12: 4 | AV12: =COUNTIF(入力画面!AV14:AV113,4) -> 0 | AY12: 4 | AZ12: =COUNTIF(入力画面!AZ14:AZ113,4) -> 0 | BB12: 4 | BC12: =COUNTIF(入力画面!BC14:BC113,4) -> 0 | BF12: 4 | BG12: =COUNTIF(入力画面!BG14:BG113,4) -> 0 | BJ12: 4 | BK12: =COUNTIF(入力画面!BK14:BK113,4) -> 0
F13: 3 | G13: =COUNTIF(入力画面!G14:G113,3) -> 0 | K13: 3 | L13: =COUNTIF(入力画面!L14:L113,3) -> 0 | N13: 3 | O13: =COUNTIF(入力画面!O14:O113,3) -> 0 | T13: 3 | U13: =COUNTIF(入力画面!U14:U113,3) -> 0 | X13: 3 | Y13: =COUNTIF(入力画面!Y14:Y113,3) -> 0 | AE13: 3 | AF13: =COUNTIF(入力画面!AF14:AF113,3) -> 0 | AK13: 3 | AL13: =COUNTIF(入力画面!AL14:AL113,3) -> 0 | AP13: 3 | AQ13: =COUNTIF(入力画面!AQ14:AQ113,3) -> 0 | AU13: 3 | AV13: =COUNTIF(入力画面!AV14:AV113,3) -> 0 | AY13: 3 | AZ13: =COUNTIF(入力画面!AZ14:AZ113,3) -> 0 | BB13: 3 | BC13: =COUNTIF(入力画面!BC14:BC113,3) -> 0 | BF13: 3 | BG13: =COUNTIF(入力画面!BG14:BG113,3) -> 0 | BJ13: 3 | BK13: =COUNTIF(入力画面!BK14:BK113,3) -> 0
F14: 2 | G14: =COUNTIF(入力画面!G14:G113,2) -> 0 | K14: 2 | L14: =COUNTIF(入力画面!L14:L113,2) -> 0 | N14: 2 | O14: =COUNTIF(入力画面!O14:O113,2) -> 0 | T14: 2 | U14: =COUNTIF(入力画面!U14:U113,2) -> 0 | X14: 2 | Y14: =COUNTIF(入力画面!Y14:Y113,2) -> 0 | AE14: 2 | AF14: =COUNTIF(入力画面!AF14:AF113,2) -> 0 | AK14: 2 | AL14: =COUNTIF(入力画面!AL14:AL113,2) -> 0 | AP14: 2 | AQ14: =COUNTIF(入力画面!AQ14:AQ113,2) -> 0 | AU14: 2 | AV14: =COUNTIF(入力画面!AV14:AV113,2) -> 0 | AY14: 2 | AZ14: =COUNTIF(入力画面!AZ14:AZ113,2) -> 0 | BB14: 2 | BC14: =COUNTIF(入力画面!BC14:BC113,2) -> 0 | BF14: 2 | BG14: =COUNTIF(入力画面!BG14:BG113,2) -> 0 | BJ14: 2 | BK14: =COUNTIF(入力画面!BK14:BK113,2) -> 0
F15: 1 | G15: =COUNTIF(入力画面!G14:G113,1) -> 0 | K15: 1 | L15: =COUNTIF(入力画面!L14:L113,1) -> 0 | N15: 1 | O15: =COUNTIF(入力画面!O14:O113,1) -> 0 | T15: 1 | U15: =COUNTIF(入力画面!U14:U113,1) -> 0 | X15: 1 | Y15: =COUNTIF(入力画面!Y14:Y113,1) -> 0 | AE15: 1 | AF15: =COUNTIF(入力画面!AF14:AF113,1) -> 0 | AK15: 1 | AL15: =COUNTIF(入力画面!AL14:AL113,1) -> 0 | AP15: 1 | AQ15: =COUNTIF(入力画面!AQ14:AQ113,1) -> 0 | AU15: 1 | AV15: =COUNTIF(入力画面!AV14:AV113,1) -> 0 | AY15: 1 | AZ15: =COUNTIF(入力画面!AZ14:AZ113,1) -> 0 | BB15: 1 | BC15: =COUNTIF(入力画面!BC14:BC113,1) -> 0 | BF15: 1 | BG15: =COUNTIF(入力画面!BG14:BG113,1) -> 0 | BJ15: 1 | BK15: =COUNTIF(入力画面!BK14:BK113,1) -> 0
F16: NA | G16: =COUNTIF(入力画面!G14:G113,0) -> 0 | K16: NA | L16: =COUNTIF(入力画面!L14:L113,0) -> 0 | N16: NA | O16: =COUNTIF(入力画面!O14:O113,0) -> 0 | T16: NA | U16: =COUNTIF(入力画面!U14:U113,0) -> 0 | X16: NA | Y16: =COUNTIF(入力画面!Y14:Y113,0) -> 0 | AE16: NA | AF16: =COUNTIF(入力画面!AF14:AF113,0) -> 0 | AK16: NA | AL16: =COUNTIF(入力画面!AL14:AL113,0) -> 0 | AP16: NA | AQ16: =COUNTIF(入力画面!AQ14:AQ113,0) -> 0 | AU16: NA | AV16: =COUNTIF(入力画面!AV14:AV113,0) -> 0 | AY16: NA | AZ16: =COUNTIF(入力画面!AZ14:AZ113,0) -> 0 | BB16: NA | BC16: =COUNTIF(入力画面!BC14:BC113,0) -> 0 | BF16: NA | BG16: =COUNTIF(入力画面!BG14:BG113,0) -> 0 | BJ16: NA | BK16: =COUNTIF(入力画面!BK14:BK113,0) -> 0
H17: 1.1-② | M17: 1.2-② | P17: 2.1-② | V17: 3.1-② | Z17: 3.2-② | AG17: 4.1-② | AM17: 4.2-② | AR17: 5.1-② | AW17: 6.1-② | BA17: A-② | BD17: B-② | BH17: A-② | BL17: B-②
G18: 5 | H18: =COUNTIF(入力画面!H14:H113,5) -> 0 | L18: 5 | M18: =COUNTIF(入力画面!M14:M113,5) -> 0 | O18: 5 | P18: =COUNTIF(入力画面!P14:P113,5) -> 0 | U18: 5 | V18: =COUNTIF(入力画面!V14:V113,5) -> 0 | Y18: 5 | Z18: =COUNTIF(入力画面!Z14:Z113,5) -> 0 | AF18: 5 | AG18: =COUNTIF(入力画面!AG14:AG113,5) -> 0 | AL18: 5 | AM18: =COUNTIF(入力画面!AM14:AM113,5) -> 0 | AQ18: 5 | AR18: =COUNTIF(入力画面!AR14:AR113,5) -> 0 | AV18: 5 | AW18: =COUNTIF(入力画面!AW14:AW113,5) -> 0 | AZ18: 5 | BA18: =COUNTIF(入力画面!BA14:BA113,5) -> 0 | BC18: 5 | BD18: =COUNTIF(入力画面!BD14:BD113,5) -> 0 | BG18: 5 | BH18: =COUNTIF(入力画面!BH14:BH113,5) -> 0 | BK18: 5 | BL18: =COUNTIF(入力画面!BL14:BL113,5) -> 0
G19: 4 | H19: =COUNTIF(入力画面!H14:H113,4) -> 0 | L19: 4 | M19: =COUNTIF(入力画面!M14:M113,4) -> 0 | O19: 4 | P19: =COUNTIF(入力画面!P14:P113,4) -> 0 | U19: 4 | V19: =COUNTIF(入力画面!V14:V113,4) -> 0 | Y19: 4 | Z19: =COUNTIF(入力画面!Z14:Z113,4) -> 0 | AF19: 4 | AG19: =COUNTIF(入力画面!AG14:AG113,4) -> 0 | AL19: 4 | AM19: =COUNTIF(入力画面!AM14:AM113,4) -> 0 | AQ19: 4 | AR19: =COUNTIF(入力画面!AR14:AR113,4) -> 0 | AV19: 4 | AW19: =COUNTIF(入力画面!AW14:AW113,4) -> 0 | AZ19: 4 | BA19: =COUNTIF(入力画面!BA14:BA113,4) -> 0 | BC19: 4 | BD19: =COUNTIF(入力画面!BD14:BD113,4) -> 0 | BG19: 4 | BH19: =COUNTIF(入力画面!BH14:BH113,4) -> 0 | BK19: 4 | BL19: =COUNTIF(入力画面!BL14:BL113,4) -> 0
G20: 3 | H20: =COUNTIF(入力画面!H14:H113,3) -> 0 | L20: 3 | M20: =COUNTIF(入力画面!M14:M113,3) -> 0 | O20: 3 | P20: =COUNTIF(入力画面!P14:P113,3) -> 0 | U20: 3 | V20: =COUNTIF(入力画面!V14:V113,3) -> 0 | Y20: 3 | Z20: =COUNTIF(入力画面!Z14:Z113,3) -> 0 | AF20: 3 | AG20: =COUNTIF(入力画面!AG14:AG113,3) -> 0 | AL20: 3 | AM20: =COUNTIF(入力画面!AM14:AM113,3) -> 0 | AQ20: 3 | AR20: =COUNTIF(入力画面!AR14:AR113,3) -> 0 | AV20: 3 | AW20: =COUNTIF(入力画面!AW14:AW113,3) -> 0 | AZ20: 3 | BA20: =COUNTIF(入力画面!BA14:BA113,3) -> 0 | BC20: 3 | BD20: =COUNTIF(入力画面!BD14:BD113,3) -> 0 | BG20: 3 | BH20: =COUNTIF(入力画面!BH14:BH113,3) -> 0 | BK20: 3 | BL20: =COUNTIF(入力画面!BL14:BL113,3) -> 0
G21: 2 | H21: =COUNTIF(入力画面!H14:H113,2) -> 0 | L21: 2 | M21: =COUNTIF(入力画面!M14:M113,2) -> 0 | O21: 2 | P21: =COUNTIF(入力画面!P14:P113,2) -> 0 | U21: 2 | V21: =COUNTIF(入力画面!V14:V113,2) -> 0 | Y21: 2 | Z21: =COUNTIF(入力画面!Z14:Z113,2) -> 0 | AF21: 2 | AG21: =COUNTIF(入力画面!AG14:AG113,2) -> 0 | AL21: 2 | AM21: =COUNTIF(入力画面!AM14:AM113,2) -> 0 | AQ21: 2 | AR21: =COUNTIF(入力画面!AR14:AR113,2) -> 0 | AV21: 2 | AW21: =COUNTIF(入力画面!AW14:AW113,2) -> 0 | AZ21: 2 | BA21: =COUNTIF(入力画面!BA14:BA113,2) -> 0 | BC21: 2 | BD21: =COUNTIF(入力画面!BD14:BD113,2) -> 0 | BG21: 2 | BH21: =COUNTIF(入力画面!BH14:BH113,2) -> 0 | BK21: 2 | BL21: =COUNTIF(入力画面!BL14:BL113,2) -> 0
G22: 1 | H22: =COUNTIF(入力画面!H14:H113,1) -> 0 | L22: 1 | M22: =COUNTIF(入力画面!M14:M113,1) -> 0 | O22: 1 | P22: =COUNTIF(入力画面!P14:P113,1) -> 0 | U22: 1 | V22: =COUNTIF(入力画面!V14:V113,1) -> 0 | Y22: 1 | Z22: =COUNTIF(入力画面!Z14:Z113,1) -> 0 | AF22: 1 | AG22: =COUNTIF(入力画面!AG14:AG113,1) -> 0 | AL22: 1 | AM22: =COUNTIF(入力画面!AM14:AM113,1) -> 0 | AQ22: 1 | AR22: =COUNTIF(入力画面!AR14:AR113,1) -> 0 | AV22: 1 | AW22: =COUNTIF(入力画面!AW14:AW113,1) -> 0 | AZ22: 1 | BA22: =COUNTIF(入力画面!BA14:BA113,1) -> 0 | BC22: 1 | BD22: =COUNTIF(入力画面!BD14:BD113,1) -> 0 | BG22: 1 | BH22: =COUNTIF(入力画面!BH14:BH113,1) -> 0 | BK22: 1 | BL22: =COUNTIF(入力画面!BL14:BL113,1) -> 0
G23: NA | H23: =COUNTIF(入力画面!H14:H113,0) -> 0 | L23: NA | M23: =COUNTIF(入力画面!M14:M113,0) -> 0 | O23: NA | P23: =COUNTIF(入力画面!P14:P113,0) -> 0 | U23: NA | V23: =COUNTIF(入力画面!V14:V113,0) -> 0 | Y23: NA | Z23: =COUNTIF(入力画面!Z14:Z113,0) -> 0 | AF23: NA | AG23: =COUNTIF(入力画面!AG14:AG113,0) -> 0 | AL23: NA | AM23: =COUNTIF(入力画面!AM14:AM113,0) -> 0 | AQ23: NA | AR23: =COUNTIF(入力画面!AR14:AR113,0) -> 0 | AV23: NA | AW23: =COUNTIF(入力画面!AW14:AW113,0) -> 0 | AZ23: NA | BA23: =COUNTIF(入力画面!BA14:BA113,0) -> 0 | BC23: NA | BD23: =COUNTIF(入力画面!BD14:BD113,0) -> 0 | BG23: NA | BH23: =COUNTIF(入力画面!BH14:BH113,0) -> 0 | BK23: NA | BL23: =COUNTIF(入力画面!BL14:BL113,0) -> 0
I24: 1.1-③ | N24: 1.2-③ | Q24: 2.1-③ | W24: 3.1-③ | AA24: 3.2-③ | AH24: 4.1-③ | AN24: 4.2-③ | AS24: 5.1-③ | AX24: 6.1-③ | BB24: A-③ | BE24: B-③ | BI24: A-③
H25: 5 | I25: =COUNTIF(入力画面!I14:I113,5) -> 0 | M25: 5 | N25: =COUNTIF(入力画面!N14:N113,5) -> 0 | P25: 5 | Q25: =COUNTIF(入力画面!Q14:Q113,5) -> 0 | V25: 5 | W25: =COUNTIF(入力画面!W14:W113,5) -> 0 | Z25: 5 | AA25: =COUNTIF(入力画面!AA14:AA113,5) -> 0 | AG25: 5 | AH25: =COUNTIF(入力画面!AH14:AH113,5) -> 0 | AM25: 5 | AN25: =COUNTIF(入力画面!AN14:AN113,5) -> 0 | AR25: 5 | AS25: =COUNTIF(入力画面!AS14:AS113,5) -> 0 | AW25: 5 | AX25: =COUNTIF(入力画面!AX14:AX113,5) -> 0 | BA25: 5 | BB25: =COUNTIF(入力画面!BB14:BB113,5) -> 0 | BD25: 5 | BE25: =COUNTIF(入力画面!BE14:BE113,5) -> 0 | BH25: 5 | BI25: =COUNTIF(入力画面!BI14:BI113,5) -> 0
H26: 4 | I26: =COUNTIF(入力画面!I14:I113,4) -> 0 | M26: 4 | N26: =COUNTIF(入力画面!N14:N113,4) -> 0 | P26: 4 | Q26: =COUNTIF(入力画面!Q14:Q113,4) -> 0 | V26: 4 | W26: =COUNTIF(入力画面!W14:W113,4) -> 0 | Z26: 4 | AA26: =COUNTIF(入力画面!AA14:AA113,4) -> 0 | AG26: 4 | AH26: =COUNTIF(入力画面!AH14:AH113,4) -> 0 | AM26: 4 | AN26: =COUNTIF(入力画面!AN14:AN113,4) -> 0 | AR26: 4 | AS26: =COUNTIF(入力画面!AS14:AS113,4) -> 0 | AW26: 4 | AX26: =COUNTIF(入力画面!AX14:AX113,4) -> 0 | BA26: 4 | BB26: =COUNTIF(入力画面!BB14:BB113,4) -> 0 | BD26: 4 | BE26: =COUNTIF(入力画面!BE14:BE113,4) -> 0 | BH26: 4 | BI26: =COUNTIF(入力画面!BI14:BI113,4) -> 0
H27: 3 | I27: =COUNTIF(入力画面!I14:I113,3) -> 0 | M27: 3 | N27: =COUNTIF(入力画面!N14:N113,3) -> 0 | P27: 3 | Q27: =COUNTIF(入力画面!Q14:Q113,3) -> 0 | V27: 3 | W27: =COUNTIF(入力画面!W14:W113,3) -> 0 | Z27: 3 | AA27: =COUNTIF(入力画面!AA14:AA113,3) -> 0 | AG27: 3 | AH27: =COUNTIF(入力画面!AH14:AH113,3) -> 0 | AM27: 3 | AN27: =COUNTIF(入力画面!AN14:AN113,3) -> 0 | AR27: 3 | AS27: =COUNTIF(入力画面!AS14:AS113,3) -> 0 | AW27: 3 | AX27: =COUNTIF(入力画面!AX14:AX113,3) -> 0 | BA27: 3 | BB27: =COUNTIF(入力画面!BB14:BB113,3) -> 0 | BD27: 3 | BE27: =COUNTIF(入力画面!BE14:BE113,3) -> 0 | BH27: 3 | BI27: =COUNTIF(入力画面!BI14:BI113,3) -> 0
H28: 2 | I28: =COUNTIF(入力画面!I14:I113,2) -> 0 | M28: 2 | N28: =COUNTIF(入力画面!N14:N113,2) -> 0 | P28: 2 | Q28: =COUNTIF(入力画面!Q14:Q113,2) -> 0 | V28: 2 | W28: =COUNTIF(入力画面!W14:W113,2) -> 0 | Z28: 2 | AA28: =COUNTIF(入力画面!AA14:AA113,2) -> 0 | AG28: 2 | AH28: =COUNTIF(入力画面!AH14:AH113,2) -> 0 | AM28: 2 | AN28: =COUNTIF(入力画面!AN14:AN113,2) -> 0 | AR28: 2 | AS28: =COUNTIF(入力画面!AS14:AS113,2) -> 0 | AW28: 2 | AX28: =COUNTIF(入力画面!AX14:AX113,2) -> 0 | BA28: 2 | BB28: =COUNTIF(入力画面!BB14:BB113,2) -> 0 | BD28: 2 | BE28: =COUNTIF(入力画面!BE14:BE113,2) -> 0 | BH28: 2 | BI28: =COUNTIF(入力画面!BI14:BI113,2) -> 0
H29: 1 | I29: =COUNTIF(入力画面!I14:I113,1) -> 0 | M29: 1 | N29: =COUNTIF(入力画面!N14:N113,1) -> 0 | P29: 1 | Q29: =COUNTIF(入力画面!Q14:Q113,1) -> 0 | V29: 1 | W29: =COUNTIF(入力画面!W14:W113,1) -> 0 | Z29: 1 | AA29: =COUNTIF(入力画面!AA14:AA113,1) -> 0 | AG29: 1 | AH29: =COUNTIF(入力画面!AH14:AH113,1) -> 0 | AM29: 1 | AN29: =COUNTIF(入力画面!AN14:AN113,1) -> 0 | AR29: 1 | AS29: =COUNTIF(入力画面!AS14:AS113,1) -> 0 | AW29: 1 | AX29: =COUNTIF(入力画面!AX14:AX113,1) -> 0 | BA29: 1 | BB29: =COUNTIF(入力画面!BB14:BB113,1) -> 0 | BD29: 1 | BE29: =COUNTIF(入力画面!BE14:BE113,1) -> 0 | BH29: 1 | BI29: =COUNTIF(入力画面!BI14:BI113,1) -> 0
H30: NA | I30: =COUNTIF(入力画面!I14:I113,0) -> 0 | M30: NA | N30: =COUNTIF(入力画面!N14:N113,0) -> 0 | P30: NA | Q30: =COUNTIF(入力画面!Q14:Q113,0) -> 0 | V30: NA | W30: =COUNTIF(入力画面!W14:W113,0) -> 0 | Z30: NA | AA30: =COUNTIF(入力画面!AA14:AA113,0) -> 0 | AG30: NA | AH30: =COUNTIF(入力画面!AH14:AH113,0) -> 0 | AM30: NA | AN30: =COUNTIF(入力画面!AN14:AN113,0) -> 0 | AR30: NA | AS30: =COUNTIF(入力画面!AS14:AS113,0) -> 0 | AW30: NA | AX30: =COUNTIF(入力画面!AX14:AX113,0) -> 0 | BA30: NA | BB30: =COUNTIF(入力画面!BB14:BB113,0) -> 0 | BD30: NA | BE30: =COUNTIF(入力画面!BE14:BE113,0) -> 0 | BH30: NA | BI30: =COUNTIF(入力画面!BI14:BI113,0) -> 0
J31: 1.1-④ | R31: 2.1-④ | X31: 3.1-④ | AB31: 3.2-④ | AI31: 4.1-④ | AO31: 4.2-④ | AT31: 5.1-④ | AY31: 6.1-④ | BF31: B-④ | BJ31: A-④
I32: 5 | J32: =COUNTIF(入力画面!J14:J113,5) -> 0 | Q32: 5 | R32: =COUNTIF(入力画面!R14:R113,5) -> 0 | W32: 5 | X32: =COUNTIF(入力画面!X14:X113,5) -> 0 | AA32: 5 | AB32: =COUNTIF(入力画面!AB14:AB113,5) -> 0 | AH32: 5 | AI32: =COUNTIF(入力画面!AI14:AI113,5) -> 0 | AN32: 5 | AO32: =COUNTIF(入力画面!AO14:AO113,5) -> 0 | AS32: 5 | AT32: =COUNTIF(入力画面!AT14:AT113,5) -> 0 | AX32: 5 | AY32: =COUNTIF(入力画面!AY14:AY113,5) -> 0 | BE32: 5 | BF32: =COUNTIF(入力画面!BF14:BF113,5) -> 0 | BI32: 5 | BJ32: =COUNTIF(入力画面!BJ14:BJ113,5) -> 0
I33: 4 | J33: =COUNTIF(入力画面!J14:J113,4) -> 0 | Q33: 4 | R33: =COUNTIF(入力画面!R14:R113,4) -> 0 | W33: 4 | X33: =COUNTIF(入力画面!X14:X113,4) -> 0 | AA33: 4 | AB33: =COUNTIF(入力画面!AB14:AB113,4) -> 0 | AH33: 4 | AI33: =COUNTIF(入力画面!AI14:AI113,4) -> 0 | AN33: 4 | AO33: =COUNTIF(入力画面!AO14:AO113,4) -> 0 | AS33: 4 | AT33: =COUNTIF(入力画面!AT14:AT113,4) -> 0 | AX33: 4 | AY33: =COUNTIF(入力画面!AY14:AY113,4) -> 0 | BE33: 4 | BF33: =COUNTIF(入力画面!BF14:BF113,4) -> 0 | BI33: 4 | BJ33: =COUNTIF(入力画面!BJ14:BJ113,4) -> 0
I34: 3 | J34: =COUNTIF(入力画面!J14:J113,3) -> 0 | Q34: 3 | R34: =COUNTIF(入力画面!R14:R113,3) -> 0 | W34: 3 | X34: =COUNTIF(入力画面!X14:X113,3) -> 0 | AA34: 3 | AB34: =COUNTIF(入力画面!AB14:AB113,3) -> 0 | AH34: 3 | AI34: =COUNTIF(入力画面!AI14:AI113,3) -> 0 | AN34: 3 | AO34: =COUNTIF(入力画面!AO14:AO113,3) -> 0 | AS34: 3 | AT34: =COUNTIF(入力画面!AT14:AT113,3) -> 0 | AX34: 3 | AY34: =COUNTIF(入力画面!AY14:AY113,3) -> 0 | BE34: 3 | BF34: =COUNTIF(入力画面!BF14:BF113,3) -> 0 | BI34: 3 | BJ34: =COUNTIF(入力画面!BJ14:BJ113,3) -> 0
I35: 2 | J35: =COUNTIF(入力画面!J14:J113,2) -> 0 | Q35: 2 | R35: =COUNTIF(入力画面!R14:R113,2) -> 0 | W35: 2 | X35: =COUNTIF(入力画面!X14:X113,2) -> 0 | AA35: 2 | AB35: =COUNTIF(入力画面!AB14:AB113,2) -> 0 | AH35: 2 | AI35: =COUNTIF(入力画面!AI14:AI113,2) -> 0 | AN35: 2 | AO35: =COUNTIF(入力画面!AO14:AO113,2) -> 0 | AS35: 2 | AT35: =COUNTIF(入力画面!AT14:AT113,2) -> 0 | AX35: 2 | AY35: =COUNTIF(入力画面!AY14:AY113,2) -> 0 | BE35: 2 | BF35: =COUNTIF(入力画面!BF14:BF113,2) -> 0 | BI35: 2 | BJ35: =COUNTIF(入力画面!BJ14:BJ113,2) -> 0
I36: 1 | J36: =COUNTIF(入力画面!J14:J113,1) -> 0 | Q36: 1 | R36: =COUNTIF(入力画面!R14:R113,1) -> 0 | W36: 1 | X36: =COUNTIF(入力画面!X14:X113,1) -> 0 | AA36: 1 | AB36: =COUNTIF(入力画面!AB14:AB113,1) -> 0 | AH36: 1 | AI36: =COUNTIF(入力画面!AI14:AI113,1) -> 0 | AN36: 1 | AO36: =COUNTIF(入力画面!AO14:AO113,1) -> 0 | AS36: 1 | AT36: =COUNTIF(入力画面!AT14:AT113,1) -> 0 | AX36: 1 | AY36: =COUNTIF(入力画面!AY14:AY113,1) -> 0 | BE36: 1 | BF36: =COUNTIF(入力画面!BF14:BF113,1) -> 0 | BI36: 1 | BJ36: =COUNTIF(入力画面!BJ14:BJ113,1) -> 0
I37: NA | J37: =COUNTIF(入力画面!J14:J113,0) -> 0 | Q37: NA | R37: =COUNTIF(入力画面!R14:R113,0) -> 0 | W37: NA | X37: =COUNTIF(入力画面!X14:X113,0) -> 0 | AA37: NA | AB37: =COUNTIF(入力画面!AB14:AB113,0) -> 0 | AH37: NA | AI37: =COUNTIF(入力画面!AI14:AI113,0) -> 0 | AN37: NA | AO37: =COUNTIF(入力画面!AO14:AO113,0) -> 0 | AS37: NA | AT37: =COUNTIF(入力画面!AT14:AT113,0) -> 0 | AX37: NA | AY37: =COUNTIF(入力画面!AY14:AY113,0) -> 0 | BE37: NA | BF37: =COUNTIF(入力画面!BF14:BF113,0) -> 0 | BI37: NA | BJ37: =COUNTIF(入力画面!BJ14:BJ113,0) -> 0
K38: 1.1-⑤ | S38: 2.1-⑤ | AC38: 3.2-⑤ | AJ38: 4.1-⑤ | AP38: 4.2-⑤ | AU38: 5.1-⑤
J39: 5 | K39: =COUNTIF(入力画面!K14:K113,5) -> 0 | R39: 5 | S39: =COUNTIF(入力画面!S14:S113,5) -> 0 | AB39: 5 | AC39: =COUNTIF(入力画面!AC14:AC113,5) -> 0 | AI39: 5 | AJ39: =COUNTIF(入力画面!AJ14:AJ113,5) -> 0 | AO39: 5 | AP39: =COUNTIF(入力画面!AP14:AP113,5) -> 0 | AT39: 5 | AU39: =COUNTIF(入力画面!AU14:AU113,5) -> 0
J40: 4 | K40: =COUNTIF(入力画面!K14:K113,4) -> 0 | R40: 4 | S40: =COUNTIF(入力画面!S14:S113,4) -> 0 | AB40: 4 | AC40: =COUNTIF(入力画面!AC14:AC113,4) -> 0 | AI40: 4 | AJ40: =COUNTIF(入力画面!AJ14:AJ113,4) -> 0 | AO40: 4 | AP40: =COUNTIF(入力画面!AP14:AP113,4) -> 0 | AT40: 4 | AU40: =COUNTIF(入力画面!AU14:AU113,4) -> 0
J41: 3 | K41: =COUNTIF(入力画面!K14:K113,3) -> 0 | R41: 3 | S41: =COUNTIF(入力画面!S14:S113,3) -> 0 | AB41: 3 | AC41: =COUNTIF(入力画面!AC14:AC113,3) -> 0 | AI41: 3 | AJ41: =COUNTIF(入力画面!AJ14:AJ113,3) -> 0 | AO41: 3 | AP41: =COUNTIF(入力画面!AP14:AP113,3) -> 0 | AT41: 3 | AU41: =COUNTIF(入力画面!AU14:AU113,3) -> 0
J42: 2 | K42: =COUNTIF(入力画面!K14:K113,2) -> 0 | R42: 2 | S42: =COUNTIF(入力画面!S14:S113,2) -> 0 | AB42: 2 | AC42: =COUNTIF(入力画面!AC14:AC113,2) -> 0 | AI42: 2 | AJ42: =COUNTIF(入力画面!AJ14:AJ113,2) -> 0 | AO42: 2 | AP42: =COUNTIF(入力画面!AP14:AP113,2) -> 0 | AT42: 2 | AU42: =COUNTIF(入力画面!AU14:AU113,2) -> 0
J43: 1 | K43: =COUNTIF(入力画面!K14:K113,1) -> 0 | R43: 1 | S43: =COUNTIF(入力画面!S14:S113,1) -> 0 | AB43: 1 | AC43: =COUNTIF(入力画面!AC14:AC113,1) -> 0 | AI43: 1 | AJ43: =COUNTIF(入力画面!AJ14:AJ113,1) -> 0 | AO43: 1 | AP43: =COUNTIF(入力画面!AP14:AP113,1) -> 0 | AT43: 1 | AU43: =COUNTIF(入力画面!AU14:AU113,1) -> 0
J44: NA | K44: =COUNTIF(入力画面!K14:K113,0) -> 0 | R44: NA | S44: =COUNTIF(入力画面!S14:S113,0) -> 0 | AB44: NA | AC44: =COUNTIF(入力画面!AC14:AC113,0) -> 0 | AI44: NA | AJ44: =COUNTIF(入力画面!AJ14:AJ113,0) -> 0 | AO44: NA | AP44: =COUNTIF(入力画面!AP14:AP113,0) -> 0 | AT44: NA | AU44: =COUNTIF(入力画面!AU14:AU113,0) -> 0
T45: 2.1-⑥ | AD45: 3.2-⑥
S46: 5 | T46: =COUNTIF(入力画面!T14:T113,5) -> 0 | AC46: 5 | AD46: =COUNTIF(入力画面!AD14:AD113,5) -> 0 | AK46: 4.1-⑥
S47: 4 | T47: =COUNTIF(入力画面!T14:T113,4) -> 0 | AC47: 4 | AD47: =COUNTIF(入力画面!AD14:AD113,4) -> 0 | AJ47: 5 | AK47: =COUNTIF(入力画面!AK14:AK113,5) -> 0
S48: 3 | T48: =COUNTIF(入力画面!T14:T113,3) -> 0 | AC48: 3 | AD48: =COUNTIF(入力画面!AD14:AD113,3) -> 0 | AJ48: 4 | AK48: =COUNTIF(入力画面!AK14:AK113,4) -> 0
S49: 2 | T49: =COUNTIF(入力画面!T14:T113,2) -> 0 | AC49: 2 | AD49: =COUNTIF(入力画面!AD14:AD113,2) -> 0 | AJ49: 3 | AK49: =COUNTIF(入力画面!AK14:AK113,3) -> 0
S50: 1 | T50: =COUNTIF(入力画面!T14:T113,1) -> 0 | AC50: 1 | AD50: =COUNTIF(入力画面!AD14:AD113,1) -> 0 | AJ50: 2 | AK50: =COUNTIF(入力画面!AK14:AK113,2) -> 0
S51: NA | T51: =COUNTIF(入力画面!T14:T113,0) -> 0 | AC51: NA | AD51: =COUNTIF(入力画面!AD14:AD113,0) -> 0 | AJ51: 1 | AK51: =COUNTIF(入力画面!AK14:AK113,1) -> 0
AE52: 3.2-⑦ | AJ52: NA | AK52: =COUNTIF(入力画面!AK14:AK113,0) -> 0
AD53: 5 | AE53: =COUNTIF(入力画面!AE14:AE113,5) -> 0
AD54: 4 | AE54: =COUNTIF(入力画面!AE14:AE113,4) -> 0
AD55: 3 | AE55: =COUNTIF(入力画面!AE14:AE113,3) -> 0
AD56: 2 | AE56: =COUNTIF(入力画面!AE14:AE113,2) -> 0
AD57: 1 | AE57: =COUNTIF(入力画面!AE14:AE113,1) -> 0
AD58: NA | AE58: =COUNTIF(入力画面!AE14:AE113,0) -> 0
